BEGIN:VCALENDAR
VERSION:2.0
PRODID:-//commalg.org - ECPv6.15.20//NONSGML v1.0//EN
CALSCALE:GREGORIAN
METHOD:PUBLISH
X-ORIGINAL-URL:https://www.commalg.org
X-WR-CALDESC:Events for commalg.org
REFRESH-INTERVAL;VALUE=DURATION:PT1H
X-Robots-Tag:noindex
X-PUBLISHED-TTL:PT1H
BEGIN:VTIMEZONE
TZID:America/New_York
BEGIN:DAYLIGHT
TZOFFSETFROM:-0500
TZOFFSETTO:-0400
TZNAME:EDT
DTSTART:20240310T070000
END:DAYLIGHT
BEGIN:STANDARD
TZOFFSETFROM:-0400
TZOFFSETTO:-0500
TZNAME:EST
DTSTART:20241103T060000
END:STANDARD
BEGIN:DAYLIGHT
TZOFFSETFROM:-0500
TZOFFSETTO:-0400
TZNAME:EDT
DTSTART:20250309T070000
END:DAYLIGHT
BEGIN:STANDARD
TZOFFSETFROM:-0400
TZOFFSETTO:-0500
TZNAME:EST
DTSTART:20251102T060000
END:STANDARD
BEGIN:DAYLIGHT
TZOFFSETFROM:-0500
TZOFFSETTO:-0400
TZNAME:EDT
DTSTART:20260308T070000
END:DAYLIGHT
BEGIN:STANDARD
TZOFFSETFROM:-0400
TZOFFSETTO:-0500
TZNAME:EST
DTSTART:20261101T060000
END:STANDARD
END:VTIMEZONE
BEGIN:VEVENT
DTSTART;VALUE=DATE:20250830
DTEND;VALUE=DATE:20250902
DTSTAMP:20260420T041950
CREATED:20250515T144321Z
LAST-MODIFIED:20250515T144321Z
UID:15697-1756512000-1756771199@www.commalg.org
SUMMARY:Homological Commutative Algebra and Related Topics in Savannah
DESCRIPTION:The Conference on Homological Commutative Algebra and Related Topics will take place August 30 – September 1\, 2025 at Georgia Southern University in Savannah. Please register by July 15. For more information\, please see the conference website.
URL:https://www.commalg.org/event/homological-commutative-algebra-and-related-topics-in-savannah/
END:VEVENT
BEGIN:VEVENT
DTSTART;VALUE=DATE:20250927
DTEND;VALUE=DATE:20250928
DTSTAMP:20260420T041950
CREATED:20250906T163715Z
LAST-MODIFIED:20250906T163715Z
UID:16177-1758931200-1759017599@www.commalg.org
SUMMARY:[Queen's University\, Ontario] Route 81 Conference on Commutative Algebra and Algebraic Geometry
DESCRIPTION:The 2025 edition of the Annual Route 81 Conference on Commutative Algebra and Algebraic Geometry will be held at Queen’s University on Saturday\, September 27\, 2025. For more information\, see the conference website.
URL:https://www.commalg.org/event/queens-university-ontario-route-81-conference-on-commutative-algebra-and-algebraic-geometry/
END:VEVENT
END:VCALENDAR