BEGIN:VCALENDAR
VERSION:2.0
PRODID:-//commalg.org - ECPv6.15.20//NONSGML v1.0//EN
CALSCALE:GREGORIAN
METHOD:PUBLISH
X-WR-CALNAME:commalg.org
X-ORIGINAL-URL:https://www.commalg.org
X-WR-CALDESC:Events for commalg.org
REFRESH-INTERVAL;VALUE=DURATION:PT1H
X-Robots-Tag:noindex
X-PUBLISHED-TTL:PT1H
BEGIN:VTIMEZONE
TZID:America/New_York
BEGIN:DAYLIGHT
TZOFFSETFROM:-0500
TZOFFSETTO:-0400
TZNAME:EDT
DTSTART:20240310T070000
END:DAYLIGHT
BEGIN:STANDARD
TZOFFSETFROM:-0400
TZOFFSETTO:-0500
TZNAME:EST
DTSTART:20241103T060000
END:STANDARD
BEGIN:DAYLIGHT
TZOFFSETFROM:-0500
TZOFFSETTO:-0400
TZNAME:EDT
DTSTART:20250309T070000
END:DAYLIGHT
BEGIN:STANDARD
TZOFFSETFROM:-0400
TZOFFSETTO:-0500
TZNAME:EST
DTSTART:20251102T060000
END:STANDARD
BEGIN:DAYLIGHT
TZOFFSETFROM:-0500
TZOFFSETTO:-0400
TZNAME:EDT
DTSTART:20260308T070000
END:DAYLIGHT
BEGIN:STANDARD
TZOFFSETFROM:-0400
TZOFFSETTO:-0500
TZNAME:EST
DTSTART:20261101T060000
END:STANDARD
END:VTIMEZONE
BEGIN:VEVENT
DTSTART;VALUE=DATE:20250728
DTEND;VALUE=DATE:20250802
DTSTAMP:20260424T055016
CREATED:20241201T210600Z
LAST-MODIFIED:20241202T000026Z
UID:14798-1753660800-1754092799@www.commalg.org
SUMMARY:ISSAC 2025
DESCRIPTION:The 2025 edition of ISSAC (International Symposium on Symbolic and Algebraic Computation) will be held on July 28th to August 1st\, 2025\, at CIMAT (Center for Research in Mathematics)\, in Guanajuato\, Mexico. For more information\, see the conference website. \nThe International Symposium on Symbolic and Algebraic Computation (ISSAC) is the premier conference for research in symbolic computation and computer algebra. ISSAC 2025 will be the 50th meeting in the series\, which started in 1966 and has been held annually since 1981. The conference presents a range of invited speakers\, tutorials\, short communications\, software demonstrations and vendor exhibits with a center-piece of contributed research papers. \nImportant Dates \n* Abstract submission deadline: January 23\, 2025\, 23:59 (anywhere on Earth)\n* Paper submission deadline: January 30\, 2025\, 23:59 (anywhere on Earth)\n* First notification of acceptance/rejection: April 16\, 2025\n* End of rebuttal phase: April 23\, 2025\n* Final notification after rebuttal phase: April 30\, 2025\n* Camera-ready copy due: May 21\, 2025
URL:https://www.commalg.org/event/issac-2025/
END:VEVENT
BEGIN:VEVENT
DTSTART;VALUE=DATE:20250812
DTEND;VALUE=DATE:20250815
DTSTAMP:20260424T055016
CREATED:20250428T194410Z
LAST-MODIFIED:20250812T023404Z
UID:15635-1754956800-1755215999@www.commalg.org
SUMMARY:Summer CAMP 2025
DESCRIPTION:The University of Nebraska-Lincoln is hosting a professional development workshop aimed at early-career commutative algebraists on August 12—14\, 2025. The workshop will discuss careers in both academia and outside of academia. The deadline to apply for funding is June 15. More information can be found on the workshop website.
URL:https://www.commalg.org/event/summer-camp-2025/
END:VEVENT
BEGIN:VEVENT
DTSTART;VALUE=DATE:20250830
DTEND;VALUE=DATE:20250902
DTSTAMP:20260424T055016
CREATED:20250515T144321Z
LAST-MODIFIED:20250515T144321Z
UID:15697-1756512000-1756771199@www.commalg.org
SUMMARY:Homological Commutative Algebra and Related Topics in Savannah
DESCRIPTION:The Conference on Homological Commutative Algebra and Related Topics will take place August 30 – September 1\, 2025 at Georgia Southern University in Savannah. Please register by July 15. For more information\, please see the conference website.
URL:https://www.commalg.org/event/homological-commutative-algebra-and-related-topics-in-savannah/
END:VEVENT
END:VCALENDAR